BEGIN:VCALENDAR
VERSION:2.0
PRODID:-//hacksw/handcal//NONSGML v1.0//EN
CALSCALE:GREGORIAN
BEGIN:VEVENT
LOCATION:
DESCRIPTION:
DTSTART:20260424T203000Z
DTEND:20260424T233000Z
SUMMARY:Underclass Bash
URL;VALUE=URI:https://east.maine207.org/event/underclass-bash/
DTSTAMP:20260424T114915Z
UID:69eb58bb64ce7
END:VEVENT
END:VCALENDAR