BEGIN:VCALENDAR
VERSION:2.0
PRODID:-//hacksw/handcal//NONSGML v1.0//EN
CALSCALE:GREGORIAN
BEGIN:VEVENT
LOCATION:
DESCRIPTION:
DTSTART:20260425T000000Z
DTEND:20260425T020000Z
SUMMARY:Spring Play - Actors' Studio
URL;VALUE=URI:https://east.maine207.org/event/spring-play-16/
DTSTAMP:20260424T115206Z
UID:69eb59663c25d
END:VEVENT
END:VCALENDAR