BEGIN:VCALENDAR
VERSION:2.0
PRODID:-//hacksw/handcal//NONSGML v1.0//EN
CALSCALE:GREGORIAN
BEGIN:VEVENT
LOCATION:Pool\, Fieldhouse\, Aux Gym\, Pool\, Cafeteria
DESCRIPTION:
DTSTART:20260425T000000Z
DTEND:20260425T040000Z
SUMMARY:Leader Lock-In-Bender/Bonifazi
URL;VALUE=URI:https://east.maine207.org/event/leader-lock-in-bender-bonifazi/
DTSTAMP:20260424T115643Z
UID:69eb5a7b5dc53
END:VEVENT
END:VCALENDAR