BEGIN:VCALENDAR
VERSION:2.0
PRODID:-//hacksw/handcal//NONSGML v1.0//EN
CALSCALE:GREGORIAN
BEGIN:VEVENT
LOCATION:
DESCRIPTION:
DTSTART:20260424T000000Z
DTEND:20260424T000000Z
SUMMARY:Last Day to purchase Prom tix
URL;VALUE=URI:https://east.maine207.org/event/last-day-to-purchase-prom-tix/
DTSTAMP:20260421T111046Z
UID:69e75b3657d98
END:VEVENT
END:VCALENDAR