BEGIN:VCALENDAR
VERSION:2.0
PRODID:-//hacksw/handcal//NONSGML v1.0//EN
CALSCALE:GREGORIAN
BEGIN:VEVENT
LOCATION:Rosemont Theatre\, 5400 N River Rd\, Rosemont\, IL 60018\, USA
DESCRIPTION:
DTSTART:20220522T200000Z
DTEND:20220522T210000Z
SUMMARY:Class of 2022 Graduation Ceremony
URL;VALUE=URI:https://east.maine207.org/event/class-of-2022-graduation-ceremony/
DTSTAMP:20260422T095341Z
UID:69e89aa5817cc
END:VEVENT
END:VCALENDAR