BEGIN:VCALENDAR
VERSION:2.0
PRODID:-//hacksw/handcal//NONSGML v1.0//EN
CALSCALE:GREGORIAN
BEGIN:VEVENT
LOCATION:Auxiliary Gym
DESCRIPTION:
DTSTART:20260424T130000Z
DTEND:20260424T200000Z
SUMMARY:Blood Drive-T. Bonifazi
URL;VALUE=URI:https://east.maine207.org/event/blood-drive-t-bonifazi-3/
DTSTAMP:20260424T102452Z
UID:69eb44f41ae34
END:VEVENT
END:VCALENDAR